BEGIN:VCALENDAR
VERSION:2.0
PRODID:-//AudioTheme 1.7.1
BEGIN:VEVENT
UID:https://www.eva-zoellner.de/?post_type=audiotheme_gig&#038;p=3989
URL:https://www.eva-zoellner.de/concerts/paretzer-field-music-2024/
DTSTART;VALUE=DATE:20240609
SUMMARY:Paretzer Field Music 2024
DESCRIPTION:solo
LOCATION:Paretzer Field Music 2024\, Paretz\, 
END:VEVENT
END:VCALENDAR