BEGIN:VCALENDAR
VERSION:2.0
PRODID:-//AudioTheme 1.7.1
BEGIN:VEVENT
UID:http://eva-zoellner.de/?post_type=audiotheme_gig&#038;p=2041
URL:https://www.eva-zoellner.de/concerts/provinzlaerm-festival/
DTSTART;TZID=GMT:20190215T190000
SUMMARY:Provinzlärm Festival
DESCRIPTION:Ensemble reflexion K
LOCATION:Nikolaikirche\, Eckernförde\, \, Germany
END:VEVENT
END:VCALENDAR