BEGIN:VCALENDAR
VERSION:2.0
PRODID:-//AudioTheme 1.7.1
BEGIN:VEVENT
UID:http://eva-zoellner.de/?post_type=audiotheme_gig&#038;p=1370
URL:https://www.eva-zoellner.de/concerts/puebla-mexico/
DTSTART;TZID=GMT:20160604T230000
SUMMARY:Puebla, Mexico
DESCRIPTION:caja de viento: surroundings  solo with electronics
LOCATION:Museo Technologico de Monterrey\, 4 norte # 5. Col. Centro\, Puebla\, Pue.\, Puebla\, \, Mexico
END:VEVENT
END:VCALENDAR