BEGIN:VCALENDAR
VERSION:2.0
PRODID:-//AudioTheme 1.7.1
BEGIN:VEVENT
UID:http://www.eva-zoellner.de/?post_type=audiotheme_gig&#038;p=2309
URL:https://www.eva-zoellner.de/concerts/queretaro-mx/
DTSTART;TZID=GMT:20191127T020000
SUMMARY:Queretaro MX
DESCRIPTION:Zöllner-Roche-Duo Mexico Tour 2019
LOCATION:Museo de la Ciudad\, Queretaro\, 
END:VEVENT
END:VCALENDAR