BEGIN:VCALENDAR
VERSION:2.0
PRODID:-//AudioTheme 1.7.1
BEGIN:VEVENT
UID:http://eva-zoellner.de/?post_type=audiotheme_gig&#038;p=1362
URL:https://www.eva-zoellner.de/concerts/radio-portrait/
DTSTART;TZID=GMT:20160530T220500
SUMMARY:Radio-Portrait
DESCRIPTION:Radioportrait: Unterwegssein  Die Akkordeonistin Eva Zöllner  
LOCATION:Deutschlandradio Kultur\, Berlin\, \, Germany
END:VEVENT
END:VCALENDAR