BEGIN:VCALENDAR
VERSION:2.0
PRODID:-//AudioTheme 1.7.1
BEGIN:VEVENT
UID:http://www.eva-zoellner.de/?post_type=audiotheme_gig&#038;p=3239
URL:https://www.eva-zoellner.de/concerts/rbbkultur/
DTSTART;VALUE=DATE:20210629
SUMMARY:RBBKultur
DESCRIPTION:Hörspielproduktion
LOCATION:rbbKultur\, Berlin\, 
END:VEVENT
END:VCALENDAR