BEGIN:VCALENDAR
VERSION:2.0
PRODID:-//AudioTheme 1.7.1
BEGIN:VEVENT
UID:http://www.eva-zoellner.de/?post_type=audiotheme_gig&#038;p=3277
URL:https://www.eva-zoellner.de/concerts/romanischer-sommer-koln/
DTSTART;VALUE=DATE:20210610
SUMMARY:Romanischer Sommer Köln
DESCRIPTION:Windspiel - WDR Radiomitschnitt
LOCATION:Romanischer Sommer Köln\, Köln\, 
END:VEVENT
END:VCALENDAR