BEGIN:VCALENDAR
VERSION:2.0
PRODID:-//AudioTheme 1.7.1
BEGIN:VEVENT
UID:https://www.eva-zoellner.de/?post_type=audiotheme_gig&#038;p=4006
URL:https://www.eva-zoellner.de/concerts/santa-marta-co/
DTSTART;TZID=GMT:20240427T000000
SUMMARY:Santa Marta, CO
DESCRIPTION:solo: CD Release Tour "voces\, señales"
LOCATION:Centro Cultural del Banco de la República\, Santa Marta\, CO\, \, Colombia
END:VEVENT
END:VCALENDAR