BEGIN:VCALENDAR
VERSION:2.0
PRODID:-//AudioTheme 1.7.1
BEGIN:VEVENT
UID:https://www.eva-zoellner.de/?post_type=audiotheme_gig&#038;p=4069
URL:https://www.eva-zoellner.de/concerts/schneeberg-sachsen/
DTSTART;TZID=GMT:20250705T170000
SUMMARY:Schneeberg, Sachsen
DESCRIPTION:Duo A&O mit Kerstin Petersen\, Orgel
LOCATION:St. Wolfgang\, Schneeberg\, 
END:VEVENT
END:VCALENDAR