BEGIN:VCALENDAR
VERSION:2.0
PRODID:-//AudioTheme 1.7.1
BEGIN:VEVENT
UID:http://eva-zoellner.de/?post_type=audiotheme_gig&#038;p=1921
URL:https://www.eva-zoellner.de/concerts/siegburg/
DTSTART;TZID=GMT:20181110T190000
SUMMARY:Siegburg
DESCRIPTION:solo
LOCATION:Nacht der Mystik\, Siegburg\, 
END:VEVENT
END:VCALENDAR