BEGIN:VCALENDAR
VERSION:2.0
PRODID:-//AudioTheme 1.7.1
BEGIN:VEVENT
UID:http://eva-zoellner.de/?post_type=audiotheme_gig&#038;p=2088
URL:https://www.eva-zoellner.de/concerts/stade/
DTSTART;TZID=GMT:20190409T173000
SUMMARY:Symposium Orgelkultur Stade
DESCRIPTION:mit Kerstin Petersen\, Orgel
LOCATION:Stade\, Stade\, 
END:VEVENT
END:VCALENDAR