BEGIN:VCALENDAR
VERSION:2.0
PRODID:-//AudioTheme 1.7.1
BEGIN:VEVENT
UID:http://www.eva-zoellner.de/?post_type=audiotheme_gig&#038;p=2323
URL:https://www.eva-zoellner.de/concerts/stadtkirche-celle/
DTSTART;TZID=GMT:20200202T170000
SUMMARY:Stadtkirche Celle
DESCRIPTION:Akkordeon & Orgel mit Kerstin Petersen
LOCATION:Stadtkirche Celle\, An der Stadtkirche 8\, Celle\, \, Germany
END:VEVENT
END:VCALENDAR