BEGIN:VCALENDAR
VERSION:2.0
PRODID:-//AudioTheme 1.7.1
BEGIN:VEVENT
UID:https://www.eva-zoellner.de/?post_type=audiotheme_gig&#038;p=3995
URL:https://www.eva-zoellner.de/concerts/stelzen/
DTSTART;VALUE=DATE:20240628
SUMMARY:Stelzen
DESCRIPTION:mit Erwin Stache u.a.
LOCATION:Stelzenfestspiele bei Reuth\, Stelzen\, \, Deutschland
END:VEVENT
END:VCALENDAR