BEGIN:VCALENDAR
VERSION:2.0
PRODID:-//AudioTheme 1.7.1
BEGIN:VEVENT
UID:https://www.eva-zoellner.de/?post_type=audiotheme_gig&#038;p=3905
URL:https://www.eva-zoellner.de/concerts/stockholm/
DTSTART;VALUE=DATE:20240320
SUMMARY:Svensk Musikvår
DESCRIPTION:Zöllner-Roche-Duo
LOCATION:Stockholm\, Stockholm\, 
END:VEVENT
END:VCALENDAR