BEGIN:VCALENDAR
VERSION:2.0
PRODID:-//AudioTheme 1.7.1
BEGIN:VEVENT
UID:http://www.eva-zoellner.de/?post_type=audiotheme_gig&#038;p=3185
URL:https://www.eva-zoellner.de/concerts/swr2-jetztmusik/
DTSTART;TZID=GMT:20210331T210300
SUMMARY:SWR2 JETZTMUSIK
DESCRIPTION:Windspiel - Duo für Neue Musik live in Rockenhausen
LOCATION:SWR2 radio
END:VEVENT
END:VCALENDAR