BEGIN:VCALENDAR
VERSION:2.0
PRODID:-//AudioTheme 1.7.1
BEGIN:VEVENT
UID:http://eva-zoellner.de/?post_type=audiotheme_gig&#038;p=2103
URL:https://www.eva-zoellner.de/concerts/tehran-iran/
DTSTART;VALUE=DATE:20190720
SUMMARY:Tehran, Iran
DESCRIPTION:composition competition
LOCATION:Tehran International Electronic Music Festival\, Teheran\, 
END:VEVENT
END:VCALENDAR