BEGIN:VCALENDAR
VERSION:2.0
PRODID:-//AudioTheme 1.7.1
BEGIN:VEVENT
UID:http://eva-zoellner.de/?post_type=audiotheme_gig&#038;p=2195
URL:https://www.eva-zoellner.de/concerts/thessaloniki-gr/
DTSTART;VALUE=DATE:20190516
SUMMARY:Thessaloniki, GR
DESCRIPTION:Windspiel - Duo für neue Musik
LOCATION:Labor Beethoven 2020\, Thessaloniki\, \, Griechenland
END:VEVENT
END:VCALENDAR