BEGIN:VCALENDAR
VERSION:2.0
PRODID:-//AudioTheme 1.7.1
BEGIN:VEVENT
UID:http://www.eva-zoellner.de/?post_type=audiotheme_gig&#038;p=3536
URL:https://www.eva-zoellner.de/concerts/trier/
DTSTART;TZID=GMT:20230203T170000
SUMMARY:Trier
DESCRIPTION:Jugendensemble Neue Musik RLP/Saarland
LOCATION:Opening Festival Trier\, Trier\, 
END:VEVENT
END:VCALENDAR