BEGIN:VCALENDAR
VERSION:2.0
PRODID:-//AudioTheme 1.7.1
BEGIN:VEVENT
UID:http://eva-zoellner.de/?post_type=audiotheme_gig&#038;p=1376
URL:https://www.eva-zoellner.de/concerts/umbral-25/
DTSTART;TZID=GMT:20160612T010000
SUMMARY:Umbral 25
DESCRIPTION:Umbral 25: improv
LOCATION:Actividades Mercurio\, Álvaro Obregón 240 col. Roma  Mexico D.F.\, Mexico City\, \, Mexico
END:VEVENT
END:VCALENDAR