BEGIN:VCALENDAR
VERSION:2.0
PRODID:-//AudioTheme 1.7.1
BEGIN:VEVENT
UID:http://eva-zoellner.de/?post_type=audiotheme_gig&#038;p=2201
URL:https://www.eva-zoellner.de/concerts/venezia-it/
DTSTART;VALUE=DATE:20190618
SUMMARY:Venezia, IT
DESCRIPTION:Zöllner-Roche-Duo
LOCATION:Biennale di Venezia\, Venice\, \, Italy
END:VEVENT
END:VCALENDAR