BEGIN:VCALENDAR
VERSION:2.0
PRODID:-//AudioTheme 1.7.1
BEGIN:VEVENT
UID:https://www.eva-zoellner.de/?post_type=audiotheme_gig&#038;p=3734
URL:https://www.eva-zoellner.de/concerts/vulkaneifel/
DTSTART;TZID=GMT:20231014T170000
SUMMARY:Vulkaneifel
DESCRIPTION:solo
LOCATION:Atelier Judith Röder\, Strötzbusch\, 
END:VEVENT
END:VCALENDAR