BEGIN:VCALENDAR
VERSION:2.0
PRODID:-//AudioTheme 1.7.1
BEGIN:VEVENT
UID:https://www.eva-zoellner.de/?post_type=audiotheme_gig&#038;p=3966
URL:https://www.eva-zoellner.de/concerts/wdr-3-radio/
DTSTART;TZID=GMT:20240129T190400
SUMMARY:WDR 3 Radio
DESCRIPTION:Ausstrahlung der Uraufführung von G. Aperghis "Carsten Trio"
LOCATION:WDR 3\, Köln\, 
END:VEVENT
END:VCALENDAR