BEGIN:VCALENDAR
VERSION:2.0
PRODID:-//AudioTheme 1.7.1
BEGIN:VEVENT
UID:http://eva-zoellner.de/?post_type=audiotheme_gig&#038;p=2131
URL:https://www.eva-zoellner.de/concerts/westerburg/
DTSTART;TZID=GMT:20190630T170000
SUMMARY:Westerburg
DESCRIPTION:Heimat - Soloprojek
LOCATION:Burgmannenhaus\, Westerburg\, \, Germany
END:VEVENT
END:VCALENDAR