BEGIN:VCALENDAR
VERSION:2.0
PRODID:-//AudioTheme 1.7.1
BEGIN:VEVENT
UID:http://eva-zoellner.de/?post_type=audiotheme_gig&#038;p=2046
URL:https://www.eva-zoellner.de/concerts/western-michigan-university/
DTSTART;VALUE=DATE:20190228
SUMMARY:Kalamazoo, US
DESCRIPTION:collect/project
LOCATION:Western Michigan University\, Kalamazoo\, \, USA
END:VEVENT
END:VCALENDAR