BEGIN:VCALENDAR
VERSION:2.0
PRODID:-//AudioTheme 1.7.1
BEGIN:VEVENT
UID:http://www.eva-zoellner.de/?post_type=audiotheme_gig&#038;p=2321
URL:https://www.eva-zoellner.de/concerts/wetzlarer-improvisationstage/
DTSTART;TZID=GMT:20200124T170000
SUMMARY:Wetzlarer Improvisationstage
DESCRIPTION:mit Anja Petry\, Kalligrafie  
LOCATION:Wetzlarer Improvisationstage\, Wetzlar\, 
END:VEVENT
END:VCALENDAR