BEGIN:VCALENDAR
VERSION:2.0
PRODID:-//AudioTheme 1.7.1
BEGIN:VEVENT
UID:https://www.eva-zoellner.de/?post_type=audiotheme_gig&#038;p=3902
URL:https://www.eva-zoellner.de/concerts/wuppertal-3/
DTSTART;TZID=GMT:20240512T090000
SUMMARY:Wuppertal
DESCRIPTION:B.A. Zimmermann: Stille und Umkehr  Sinfonieorchester Wuppertal
LOCATION:Stadthalle Wuppertal\, Wuppertal\, 
END:VEVENT
END:VCALENDAR