BEGIN:VCALENDAR
VERSION:2.0
PRODID:-//AudioTheme 1.7.1
BEGIN:VEVENT
UID:http://eva-zoellner.de/nsite/?post_type=audiotheme_gig&#038;p=237
URL:https://www.eva-zoellner.de/concerts/zender-winterreise-5/
DTSTART;TZID=GMT:20150208T100000
SUMMARY:Zender Winterreise
LOCATION:Bremer Philharmoniker\, Bremen\, \, Germany
END:VEVENT
END:VCALENDAR