BEGIN:VCALENDAR
VERSION:2.0
PRODID:-//AudioTheme 1.7.1
BEGIN:VEVENT
UID:https://www.eva-zoellner.de/?post_type=audiotheme_gig&#038;p=4057
URL:https://www.eva-zoellner.de/concerts/zurich-ch/
DTSTART;TZID=GMT:20250122T190000
SUMMARY:Zürich, CH
DESCRIPTION:mit Acoustic Trio Kimmig-Studer-Zimmerlin
LOCATION:Kunstraum Walcheturm\, Zürich\, \, Schweiz
END:VEVENT
END:VCALENDAR